BEGIN:VCALENDAR
VERSION:2.0
PRODID:-//West Fairmount Hill Community Group - ECPv6.15.20//NONSGML v1.0//EN
CALSCALE:GREGORIAN
METHOD:PUBLISH
X-WR-CALNAME:West Fairmount Hill Community Group
X-ORIGINAL-URL:https://westfhcommunity.org
X-WR-CALDESC:Events for West Fairmount Hill Community Group
REFRESH-INTERVAL;VALUE=DURATION:PT1H
X-Robots-Tag:noindex
X-PUBLISHED-TTL:PT1H
BEGIN:VTIMEZONE
TZID:UTC
BEGIN:STANDARD
TZOFFSETFROM:+0000
TZOFFSETTO:+0000
TZNAME:UTC
DTSTART:20210101T000000
END:STANDARD
END:VTIMEZONE
BEGIN:VEVENT
DTSTART;TZID=UTC:20220829T080000
DTEND;TZID=UTC:20220829T170000
DTSTAMP:20260424T000906
CREATED:20220627T163407Z
LAST-MODIFIED:20220627T163407Z
UID:3378-1661760000-1661792400@westfhcommunity.org
SUMMARY:West Fairmount Hill Reads—Launch!
DESCRIPTION:August 29th: West Fairmount hill reads launch. The Sum of Us
URL:https://westfhcommunity.org/event/west-fairmount-hill-reads-launch/
CATEGORIES:2022
ATTACH;FMTTYPE=image/jpeg:https://westfhcommunity.org/wp-content/uploads/2022/02/0525509569.01._SCLZZZZZZZ_SX500_.jpg
END:VEVENT
BEGIN:VEVENT
DTSTART;VALUE=DATE:20220124
DTEND;VALUE=DATE:20220125
DTSTAMP:20260424T000906
CREATED:20220114T165604Z
LAST-MODIFIED:20220114T165604Z
UID:1391-1642982400-1643068799@westfhcommunity.org
SUMMARY:A WFH community Meeting
DESCRIPTION:
URL:https://westfhcommunity.org/event/a-wfh-community-meeting/
END:VEVENT
BEGIN:VEVENT
DTSTART;VALUE=DATE:20220117
DTEND;VALUE=DATE:20220118
DTSTAMP:20260424T000906
CREATED:20220114T165411Z
LAST-MODIFIED:20220114T165411Z
UID:1388-1642377600-1642463999@westfhcommunity.org
SUMMARY:MLK Day event
DESCRIPTION:
URL:https://westfhcommunity.org/event/mlk-day-event/
LOCATION:MLK Day event\, Boston\, MA\, Hyde Park\, MA\, 02136
END:VEVENT
END:VCALENDAR