BEGIN:VCALENDAR
VERSION:2.0
PRODID:-//West Fairmount Hill Community Group - ECPv6.15.20//NONSGML v1.0//EN
CALSCALE:GREGORIAN
METHOD:PUBLISH
X-ORIGINAL-URL:https://westfhcommunity.org
X-WR-CALDESC:Events for West Fairmount Hill Community Group
REFRESH-INTERVAL;VALUE=DURATION:PT1H
X-Robots-Tag:noindex
X-PUBLISHED-TTL:PT1H
BEGIN:VTIMEZONE
TZID:UTC
BEGIN:STANDARD
TZOFFSETFROM:+0000
TZOFFSETTO:+0000
TZNAME:UTC
DTSTART:20250101T000000
END:STANDARD
END:VTIMEZONE
BEGIN:VEVENT
DTSTART;TZID=UTC:20260323T183000
DTEND;TZID=UTC:20260323T183000
DTSTAMP:20260423T191648
CREATED:20260309T171239Z
LAST-MODIFIED:20260309T171239Z
UID:6206-1774290600-1774290600@westfhcommunity.org
SUMMARY:West Fairmount Hill Community Group Meeting
DESCRIPTION:
URL:https://westfhcommunity.org/event/west-fairmount-hill-community-group-meeting-2/
CATEGORIES:2026
END:VEVENT
END:VCALENDAR