BEGIN:VCALENDAR
VERSION:2.0
PRODID:-//West Fairmount Hill Community Group - ECPv6.15.20//NONSGML v1.0//EN
CALSCALE:GREGORIAN
METHOD:PUBLISH
X-ORIGINAL-URL:https://westfhcommunity.org
X-WR-CALDESC:Events for West Fairmount Hill Community Group
REFRESH-INTERVAL;VALUE=DURATION:PT1H
X-Robots-Tag:noindex
X-PUBLISHED-TTL:PT1H
BEGIN:VTIMEZONE
TZID:UTC
BEGIN:STANDARD
TZOFFSETFROM:+0000
TZOFFSETTO:+0000
TZNAME:UTC
DTSTART:20230101T000000
END:STANDARD
END:VTIMEZONE
BEGIN:VEVENT
DTSTART;TZID=UTC:20241123T080000
DTEND;TZID=UTC:20241123T170000
DTSTAMP:20260424T213949
CREATED:20241006T181415Z
LAST-MODIFIED:20241006T181415Z
UID:5269-1732348800-1732381200@westfhcommunity.org
SUMMARY:Neighborhood Event
DESCRIPTION:
URL:https://westfhcommunity.org/event/neighborhood-event-3/
CATEGORIES:2024
END:VEVENT
END:VCALENDAR